BEGIN:VCALENDAR
PRODID:-//eluceo/ical//2.0/EN
VERSION:2.0
CALSCALE:GREGORIAN
BEGIN:VEVENT
UID:e6fdc1f841d05c1a321241cf1424a042
DTSTAMP:20260419T134906Z
SUMMARY:Course de canards sur la Dendre
DESCRIPTION:Conférencier(s): 
URL:https://lessines.rotary2150.org/fr/agenda/show/87758
DTSTART;TZID=Europe/Zurich:20250928T150000
DTEND;TZID=Europe/Zurich:20250928T190000
LOCATION:caserne des pompiers
CATEGORIES:Rotary
END:VEVENT
BEGIN:VTIMEZONE
TZID:Europe/Zurich
BEGIN:DAYLIGHT
DTSTART:20250928T150000
TZNAME:CEST
TZOFFSETTO:+0200
TZOFFSETFROM:+0200
END:DAYLIGHT
END:VTIMEZONE
END:VCALENDAR
